BEGIN:VCALENDAR
VERSION:2.0
PRODID:icalendar-ruby
CALSCALE:GREGORIAN
METHOD:PUBLISH
BEGIN:VEVENT
DTSTAMP:20260422T123039Z
UID:323-2933804@hischurchcoarsegold.com
DTSTART:20260424T010000Z
DTEND:20260424T030000Z
CLASS:PUBLIC
CREATED:20260422T035426
DESCRIPTION:
LAST-MODIFIED:20260422T035426
LOCATION:His Church Campus
SUMMARY:Bible Study - The Book of Daniel
URL;VALUE=URI:https://www.hischurchcoarsegold.com/events/bible-study-the-bo
 ok-of-daniel/2026-04-23
ATTACH;FILENAME=Screenshot-2026-04-20-at-11.18.59AM.png;FMTTYPE=image/png:h
 ttps://dq5pwpg1q8ru0.cloudfront.net/2026/04/20/18/26/14/f4cd8ecc-24d2-4c3f
 -9e7e-14e06dce4d81/Screenshot-2026-04-20-at-11.18.59AM.png
ATTACH;FILENAME=Screenshot-2026-04-20-at-11.27.54AM.png;FMTTYPE=image/png:h
 ttps://dq5pwpg1q8ru0.cloudfront.net/2026/04/20/18/29/02/531b26ad-f699-4930
 -800e-681ad3a4ea65/Screenshot-2026-04-20-at-11.27.54AM.png
END:VEVENT
END:VCALENDAR
