BEGIN:VCALENDAR
VERSION:2.0
PRODID:icalendar-ruby
CALSCALE:GREGORIAN
METHOD:PUBLISH
BEGIN:VEVENT
DTSTAMP:20260425T142802Z
UID:135-2964918@hischurchcoarsegold.com
DTSTART:20260426T160000Z
DTEND:20260426T170000Z
CLASS:PUBLIC
CREATED:20260425T063218
DESCRIPTION:Sunday Service
LAST-MODIFIED:20260425T063218
LOCATION:Coarsegold Community Center
SUMMARY:Sunday Service
URL;VALUE=URI:https://www.hischurchcoarsegold.com/events/sunday-service/202
 6-04-26
END:VEVENT
END:VCALENDAR
