BEGIN:VCALENDAR
VERSION:2.0
PRODID:icalendar-ruby
CALSCALE:GREGORIAN
METHOD:PUBLISH
BEGIN:VEVENT
DTSTAMP:20260421T103159Z
UID:5-2920822@hischurchcoarsegold.com
DTSTART:20250413T180000Z
DTEND:20250413T190000Z
CLASS:PUBLIC
CREATED:20260420T164252
DESCRIPTION:Sunday Worship
LAST-MODIFIED:20260420T164252
LOCATION:
SUMMARY:Sunday Worship
URL;VALUE=URI:https://www.hischurchcoarsegold.com/events/sunday-worship/202
 5-04-13
END:VEVENT
END:VCALENDAR
