BEGIN:VCALENDAR
VERSION:2.0
PRODID:icalendar-ruby
CALSCALE:GREGORIAN
METHOD:PUBLISH
BEGIN:VEVENT
DTSTAMP:20260421T121048Z
UID:5-2922485@hischurchcoarsegold.com
DTSTART:20250420T180000Z
DTEND:20250420T190000Z
CLASS:PUBLIC
CREATED:20260421T034849
DESCRIPTION:Sunday Worship
LAST-MODIFIED:20260421T034849
LOCATION:
SUMMARY:Sunday Worship
URL;VALUE=URI:https://www.hischurchcoarsegold.com/events/sunday-worship/202
 5-04-20
END:VEVENT
END:VCALENDAR
