BEGIN:VCALENDAR
VERSION:2.0
PRODID:icalendar-ruby
CALSCALE:GREGORIAN
METHOD:PUBLISH
BEGIN:VEVENT
DTSTAMP:20260421T135333Z
UID:5-2924149@hischurchcoarsegold.com
DTSTART:20250427T180000Z
DTEND:20250427T190000Z
CLASS:PUBLIC
CREATED:20260421T062446
DESCRIPTION:Sunday Worship
LAST-MODIFIED:20260421T062446
LOCATION:
SUMMARY:Sunday Worship
URL;VALUE=URI:https://www.hischurchcoarsegold.com/events/sunday-worship/202
 5-04-27
END:VEVENT
END:VCALENDAR
