BEGIN:VCALENDAR
VERSION:2.0
PRODID:icalendar-ruby
CALSCALE:GREGORIAN
METHOD:PUBLISH
BEGIN:VEVENT
DTSTAMP:20260422T042848Z
UID:5-2930811@hischurchcoarsegold.com
DTSTART:20250622T180000Z
DTEND:20250622T190000Z
CLASS:PUBLIC
CREATED:20260421T165555
DESCRIPTION:Sunday Worship
LAST-MODIFIED:20260421T165555
LOCATION:
SUMMARY:Sunday Worship
URL;VALUE=URI:https://www.hischurchcoarsegold.com/events/sunday-worship/202
 5-06-22
END:VEVENT
END:VCALENDAR
