BEGIN:VCALENDAR
VERSION:2.0
PRODID:icalendar-ruby
CALSCALE:GREGORIAN
METHOD:PUBLISH
BEGIN:VEVENT
DTSTAMP:20260424T084031Z
UID:5-2950790@hischurchcoarsegold.com
DTSTART:20250629T180000Z
DTEND:20250629T190000Z
CLASS:PUBLIC
CREATED:20260423T182722
DESCRIPTION:Sunday Worship
LAST-MODIFIED:20260423T182722
LOCATION:
SUMMARY:Sunday Worship
URL;VALUE=URI:https://www.hischurchcoarsegold.com/events/sunday-worship/202
 5-06-29
END:VEVENT
END:VCALENDAR
