BEGIN:VCALENDAR
VERSION:2.0
PRODID:icalendar-ruby
CALSCALE:GREGORIAN
METHOD:PUBLISH
BEGIN:VEVENT
DTSTAMP:20260424T100142Z
UID:5-2950791@hischurchcoarsegold.com
DTSTART:20250706T180000Z
DTEND:20250706T190000Z
CLASS:PUBLIC
CREATED:20260423T182722
DESCRIPTION:Sunday Worship
LAST-MODIFIED:20260423T182722
LOCATION:
SUMMARY:Sunday Worship
URL;VALUE=URI:https://www.hischurchcoarsegold.com/events/sunday-worship/202
 5-07-06
END:VEVENT
END:VCALENDAR
