BEGIN:VCALENDAR
VERSION:2.0
PRODID:icalendar-ruby
CALSCALE:GREGORIAN
METHOD:PUBLISH
BEGIN:VEVENT
DTSTAMP:20260425T115005Z
UID:5-2962475@hischurchcoarsegold.com
DTSTART:20251012T180000Z
DTEND:20251012T190000Z
CLASS:PUBLIC
CREATED:20260425T035043
DESCRIPTION:Sunday Worship
LAST-MODIFIED:20260425T035043
LOCATION:
SUMMARY:Sunday Worship
URL;VALUE=URI:https://www.hischurchcoarsegold.com/events/sunday-worship/202
 5-10-12
END:VEVENT
END:VCALENDAR
