BEGIN:VCALENDAR
VERSION:2.0
PRODID:icalendar-ruby
CALSCALE:GREGORIAN
METHOD:PUBLISH
BEGIN:VEVENT
DTSTAMP:20260425T000805Z
UID:5-2959190@hischurchcoarsegold.com
DTSTART:20261004T180000Z
DTEND:20261004T190000Z
CLASS:PUBLIC
CREATED:20260424T151345
DESCRIPTION:Sunday Worship
LAST-MODIFIED:20260424T151345
LOCATION:
SUMMARY:Sunday Worship
URL;VALUE=URI:https://www.hischurchcoarsegold.com/events/sunday-worship/202
 6-10-04
END:VEVENT
END:VCALENDAR
