BEGIN:VCALENDAR
VERSION:2.0
PRODID:icalendar-ruby
CALSCALE:GREGORIAN
METHOD:PUBLISH
BEGIN:VEVENT
DTSTAMP:20260425T021315Z
UID:5-2960859@hischurchcoarsegold.com
DTSTART:20261011T180000Z
DTEND:20261011T190000Z
CLASS:PUBLIC
CREATED:20260424T180147
DESCRIPTION:Sunday Worship
LAST-MODIFIED:20260424T180147
LOCATION:
SUMMARY:Sunday Worship
URL;VALUE=URI:https://www.hischurchcoarsegold.com/events/sunday-worship/202
 6-10-11
END:VEVENT
END:VCALENDAR
