BEGIN:VCALENDAR
VERSION:2.0
PRODID:icalendar-ruby
CALSCALE:GREGORIAN
METHOD:PUBLISH
BEGIN:VEVENT
DTSTAMP:20260422T141421Z
UID:324-2917200@hischurchcoarsegold.com
DTSTART:20260426T000000Z
DTEND:20260426T020000Z
CLASS:PUBLIC
CREATED:20260420T113022
DESCRIPTION:
LAST-MODIFIED:20260420T113022
LOCATION:His Church Campus
SUMMARY:Women's Ministry - BUNCO! Game Night
URL;VALUE=URI:https://www.hischurchcoarsegold.com/events/womens-ministry-bu
 nco-game-night/2026-04-25
ATTACH;FILENAME=Screenshot-2026-04-20-at-11.27.20AM.png;FMTTYPE=image/png:h
 ttps://dq5pwpg1q8ru0.cloudfront.net/2026/04/20/18/30/22/b561d45f-9d44-4fea
 -8793-0ab9795b796c/Screenshot-2026-04-20-at-11.27.20AM.png
END:VEVENT
END:VCALENDAR
